BEGIN:VCALENDAR
VERSION:2.0
PRODID:-//172.67.200.125//NONSGML kigkonsult.se iCalcreator 2.20//
CALSCALE:GREGORIAN
METHOD:PUBLISH
X-WR-TIMEZONE:UTC
BEGIN:VEVENT
UID:event1@Ford F100 Club Of Australia Inc.
DTSTAMP:20210223T125502Z
CATEGORIES:Club Events
DESCRIPTION:All club events have been cancelled due to Covid-19\nCategory: 
 Club Events\nLink: https://fordf100club.com.au/index.php?option=com_jem&vi
 ew=event&id=1:all-club-events-have-been-cancelled-due-to-covid-19\n
DTSTART;VALUE=DATE:20200203
DTEND;VALUE=DATE:20201001
SUMMARY:All club events have been cancelled due to Covid-19
URL:https://fordf100club.com.au/index.php?option=com_jem&view=event&id=1:al
 l-club-events-have-been-cancelled-due-to-covid-19
END:VEVENT
END:VCALENDAR
